BEGIN:VCALENDAR
VERSION:2.0
PRODID:-//Aalborg Streetfood - ECPv6.10.2//NONSGML v1.0//EN
CALSCALE:GREGORIAN
METHOD:PUBLISH
X-WR-CALNAME:Aalborg Streetfood
X-ORIGINAL-URL:https://aalborg-streetfood.dk
X-WR-CALDESC:Begivenheder for Aalborg Streetfood
REFRESH-INTERVAL;VALUE=DURATION:PT1H
X-Robots-Tag:noindex
X-PUBLISHED-TTL:PT1H
BEGIN:VTIMEZONE
TZID:Europe/Copenhagen
BEGIN:DAYLIGHT
TZOFFSETFROM:+0100
TZOFFSETTO:+0200
TZNAME:CEST
DTSTART:20260329T010000
END:DAYLIGHT
BEGIN:STANDARD
TZOFFSETFROM:+0200
TZOFFSETTO:+0100
TZNAME:CET
DTSTART:20261025T010000
END:STANDARD
BEGIN:DAYLIGHT
TZOFFSETFROM:+0100
TZOFFSETTO:+0200
TZNAME:CEST
DTSTART:20270328T010000
END:DAYLIGHT
BEGIN:STANDARD
TZOFFSETFROM:+0200
TZOFFSETTO:+0100
TZNAME:CET
DTSTART:20271031T010000
END:STANDARD
END:VTIMEZONE
BEGIN:VEVENT
DTSTART;TZID=Europe/Copenhagen:20260913T113000
DTEND;TZID=Europe/Copenhagen:20260913T160000
DTSTAMP:20260424T133854
CREATED:20260331T120535Z
LAST-MODIFIED:20260331T120811Z
UID:10001992-1789299000-1789315200@aalborg-streetfood.dk
SUMMARY:Loppemarked i solen
DESCRIPTION:🎉 KOM TIL LOPPEMARKED I SOLEN PÅ AALBORG STREETFOOD! \n👉 Kom og oplev en hyggelig søndag her på Aalborg Streetfood med vores udendørs loppemarked ved terrassen\, hvor du kan finde masser af gode loppefund og meget mere! 💰📦 \n👉 Har du ting\, du vil af med? Book en stand og sælg alt fra tøj til bøger\, elektronik og meget mere! \n👉 Tag venner og familie med\, og lad jer friste af lækker streetfood og drikkevarer fra vores boder\, mens I shopper eller sælger 🍔🍕 \n⚠️ Vejrforbehold ⚠️\nVi forbeholder os retten til at rykke loppemarkedet indenfor eller aflyse\, hvis vejret ikke er egnet til udendørs afholdelse. \n❌ BOOKING AF STAND ❌ \nSkal du sælge ud af garderoben\, sølvtøjet eller kreative sysler? Så er der mulighed for at booke en stand til 150\,-.  \nVi sørger for et bord som måler 75 x 180 cm. Du er velkommen til selv at medbringe et stativ.  \nUdenfor har vi god plads\, så medbring gerne en masse gode sager!  \nDu kan komme og sætte op kl. 10.00\, hvor du vil blive mødt af vores søde personale\, som hjælper med udlevering af bord\, plads mm. \n\nEr der ikke flere stande? Skriv til os på event@aalborg-streetfood.dk for venteliste.
URL:https://aalborg-streetfood.dk/event/loppemarked-i-solen-10/
LOCATION:Terrassen
CATEGORIES:Aalborg Streetfood,Familievenlige oplevelser,Loppemarked,Udendørs loppemarked
ATTACH;FMTTYPE=image/png:https://aalborg-streetfood.dk/wp-content/uploads/2025/01/Loppemarked-i-solen-2025.png
END:VEVENT
BEGIN:VEVENT
DTSTART;TZID=Europe/Copenhagen:20261009T190000
DTEND;TZID=Europe/Copenhagen:20261010T000000
DTSTAMP:20260424T133854
CREATED:20251103T113116Z
LAST-MODIFIED:20260317T141232Z
UID:10001946-1791572400-1791590400@aalborg-streetfood.dk
SUMMARY:Party Bingo feat. Bingo Bruvs
DESCRIPTION:🎉 ER DU KLAR TIL PARTYBINGO? 🎉\nVi skruer maks op for musikken\, lyset og stemningen i vores eventhal\, når vi inviterer til PARTYBINGO! 🔥 \nGlemt alt hvad du troede om bingo! Tallene er skiftet ud med musiknumre\, og når DJ’en spiller en sang\, gælder det om at krydse den af på din bingoplade. De to værter guider jer gennem aftenen med masser af musik\, sjove indslag og gode grin! \n🕖 Dørene åbner kl. 19.00\n🎤 Showet starter kl 20.00\n💃 Afterparty i eventhallen kl. 22.00-00.00 \nHvad kan du forvente?\n🎵 Musikbingo – Syng med\, kryds af\, og råb BINGO!\n😂 Konkurrencer og lege – Gør dig klar til at dyste og grine!\n🏆 Lækre præmier – Der er selvfølgelig præmier på højkant\n🎉 Afterparty med DJ & dans – Festen slutter ikke\, når sidste bingo er råbt! \nKom i god tid før showet og få GRATIS shuffleboard\, karaoke og dart (såfremt det er ledigt)\nVis blot din billet i baren 🥳 \nGrib dine venner\, få en drink i hånden og gør jer klar til en aften fyldt med god musik\, grin og fællesskab! 🥳 \n+18 arrangement.
URL:https://aalborg-streetfood.dk/event/party-bingo-feat-bingo-bruvs-10-2-3-2-3-2/
LOCATION:Eventhallen
CATEGORIES:Aalborg Streetfood,Party bingo
ATTACH;FMTTYPE=image/png:https://aalborg-streetfood.dk/wp-content/uploads/2025/02/Banner-2.png
END:VEVENT
BEGIN:VEVENT
DTSTART;TZID=Europe/Copenhagen:20261010T200000
DTEND;TZID=Europe/Copenhagen:20261010T233000
DTSTAMP:20260424T133854
CREATED:20260121T123254Z
LAST-MODIFIED:20260330T122317Z
UID:10001936-1791662400-1791675000@aalborg-streetfood.dk
SUMMARY:Hitkanonen | Keen On Queen
DESCRIPTION:O:B:S – Datoen er rykket fra den 11/4 til den 10/10. \nKeen On Queen leverer alle de største Queen-hits\, fra “Bohemian Rhapsody” til “We Will Rock You”. 👑\nForbered dig på rock\, fællessang og publikum i ekstase – et live-show\, hvor hele Streetfood synger med på de ikoniske omkvæd og danser til de store hits. \n🎵 Queen-klassikere\, der rammer alle generationer\n😂 Fællessang og jubel\n🍺 1 gratis øl\, sodavand eller drink mellem 17.30–19.00 i Rustbaren\n🍔 Streetfood-muligheder: Kan købes \n🕖 Dørene åbner 20:00 | 🎤 Live start 20.30\n🎟️ Early Bird: 160 kr. | Standard: 195 kr. \nEn aften med rockfest\, fællessang og høj energi\, hvor publikum bliver en del af musikken! 🎶🔥
URL:https://aalborg-streetfood.dk/event/hitkanonen-keen-on-queen/
LOCATION:Eventhallen
CATEGORIES:Aalborg Streetfood,Hitkanonen,Koncerter
ATTACH;FMTTYPE=image/png:https://aalborg-streetfood.dk/wp-content/uploads/2026/01/KEEN-on-QUEEN-med-SH35-logo.png
END:VEVENT
BEGIN:VEVENT
DTSTART;TZID=Europe/Copenhagen:20261023T183000
DTEND;TZID=Europe/Copenhagen:20261023T210000
DTSTAMP:20260424T133854
CREATED:20250213T083922Z
LAST-MODIFIED:20260218T131433Z
UID:10001972-1792780200-1792789200@aalborg-streetfood.dk
SUMMARY:Portvinssmagning med ROMeriet
DESCRIPTION:Kom til eksklusiv Portvinssmagning med ROMeriet 🥃 \nTag med på en stemningsfuld aften i portvinens tegn\, hvor vi dykker ned i traditioner\, håndværk og smagsnuancer fra hjertet af Douro. \nVi tager jer med på en rejse gennem flere lækre portvine. Der bliver mulighed for at smage bredt og varieret: \n\n\n🌸 Rosé Portvin \n\n\n🍋 Hvid Portvin \n\n\n🥃 Tawny \n\n\n🍷 Vintage Port \n\n\nUndervejs fortæller vi om produktionen\, druetyperne\, lagringen og forskellen på fadlagrede og flaskelagrede portvine. Vi kommer omkring både lette og friske varianter\, nøddeagtige og komplekse udgaver samt de mørke\, intense og lagringsværdige portvine\, som virkelig viser portvinens dybde. \nDenne aften vil byde på: \n🥃 9 eksklusive portvin fra forskellige lande🎤 Guidet af Michael fra ROMeriet \nDu kommer til at få indsigt i historien bag hver flaske\, de mange forskellige smagsnuancer\, som gør hver rom til noget helt særligt. \nSmagningen bliver guidet med fokus på både nydelse og viden og der vil være god til spørgsmål og snak. Så uanset om du er ny i portvins verden eller allerede har en samling derhjemme\, er du mere end velkommen – der er plads til alle! \nProgram for aftenen:\nKl. 18.00 Dørene åbner\nKl. 18.30 Smagningen går i gang \nDer er mulighed for at gå på opdagelse i vores mange køkkener\, både før og efter smagningen. \nGlæd dig til en lærerig og underholdende aften! 🥃
URL:https://aalborg-streetfood.dk/event/romsmagning-med-romeriet-og-1423-2-2-2-2/
LOCATION:Streetfood
CATEGORIES:Aalborg Streetfood,Romsmagning,Smagninger
ATTACH;FMTTYPE=image/png:https://aalborg-streetfood.dk/wp-content/uploads/2025/02/Romsmagning-2026-2.png
END:VEVENT
BEGIN:VEVENT
DTSTART;TZID=Europe/Copenhagen:20261113T210000
DTEND;TZID=Europe/Copenhagen:20261113T230000
DTSTAMP:20260424T133854
CREATED:20250815T072728Z
LAST-MODIFIED:20260417T095827Z
UID:10002005-1794603600-1794610800@aalborg-streetfood.dk
SUMMARY:Mathias Ranch - Den Sidste Entertainer Tour 2026
DESCRIPTION:Efter at have markeret sig som en af de mest særegne nye stemmer på den danske scene\, tager Mathias Ranch i november 2026 ud på sin første egentlige headlinertour som soloartist. \nMed Den Sidste Entertainer Tour inviterer han publikum helt tæt på et liveunivers\, hvor nærvær\, nerve og menneskelighed vejer tungere end kontrol og perfektion. \nTourens titel er hentet fra en kommende sang\, men peger også direkte ind i den kunstneriske retning\, Mathias Ranch arbejder med. I en tid\, hvor meget live musik er strømlinet og fastlåst\, er intentionen her det modsatte: at skabe et rum\, hvor musikken må bevæge sig\, og hvor ikke to koncerter er ens. \n“For mig handler Den Sidste Entertainer om at holde fast i noget menneskeligt. Vi stræber stadig efter at lave det bedste og smukkeste\, vi kan\, men vi er drevet af følelse frem for perfektion. Der skal være plads til fejl\, udvikling og øjeblikke\, som kun kan opstå i rummet mellem publikum og musikere.” \nMathias Ranch har tidligere sat tydelige aftryk på dansk musik som en del af Statisk\, men som soloartist bevæger han sig i et mere personligt og nærværende udtryk. Med EP’en Barn Af Venedig har han skabt et univers\, hvor den danske sangtradition\, rockens rå nerve og et moderne tonesprog smelter sammen. \nSangene kredser om identitet\, psykisk sårbarhed\, håb og det at finde fodfæste i en verden\, hvor tempo og forventninger ofte overdøver eftertanken. \nPå scenen bliver dette univers foldet ud i et koncertformat\, hvor alt spilles live – uden backingtracks og uden klik. Det stiller store krav til både sammenspil og tilstedeværelse\, men åbner samtidig for et mere levende og uforudsigeligt udtryk. \n“Jeg har prøvet at samle nogle af de dygtigste musikere\, jeg overhovedet kunne finde. Når vi spiller uden tracks\, kræver det\, at alle lytter og reagerer hele tiden. Det gør også\, at ikke to koncerter behøver være ens.” \nDen kommende tour bliver både en mulighed for at opleve sangene fra Barn Af Venedig live og et indblik i den retning\, Mathias Ranch bevæger sig i frem mod sit kommende album. \nFor publikum bliver det en sjælden mulighed for at komme helt tæt på en artist i bevægelse – og opleve en koncert\, der ikke leveres som et fast produkt\, men som noget\, der opstår i nuet. \nOplev Mathias Ranch live på SH35 i Aalborg den 13. november 2026. Dørene åbner kl. 20.00 og koncerten starter kl. 21.00.
URL:https://aalborg-streetfood.dk/event/mathiasranch/
LOCATION:SH35
CATEGORIES:Koncerter,SH35
ATTACH;FMTTYPE=image/png:https://aalborg-streetfood.dk/wp-content/uploads/2025/08/Mathias-Ranch.png
END:VEVENT
BEGIN:VEVENT
DTSTART;TZID=Europe/Copenhagen:20270319T200000
DTEND;TZID=Europe/Copenhagen:20270319T233000
DTSTAMP:20260424T133854
CREATED:20260121T123930Z
LAST-MODIFIED:20260330T122222Z
UID:10001937-1805486400-1805499000@aalborg-streetfood.dk
SUMMARY:Hitkanonen | Båndsalat (80’er\, 90’er & nye hits)
DESCRIPTION:O:B:S – Datoen er rykket fra den 24/4-26 til 19/3-27. \nBåndsalat leverer de største hits fra 80’erne\, 90’erne og nutidens top-hits\, så alle kan synge med! 🎵\nFra klassikere til nutidens radiohits – aftenens musikalske buffet giver noget for alle\, og skaber et live-univers fyldt med energi\, dans og fællesskab. \n😂 Fællessang\, grin og fest\n🍺 1 gratis øl\, sodavand eller drink mellem 17.30–19.00 i Rustbaren\n🍔 Streetfood-muligheder: Kan købes \n🕖 Dørene åbner 20:00 | 🎤 Live start 20.30\n🎟️ Early Bird: 160 kr. | Standard: 195 kr. \nTag vennerne under armen og vær med til fest\, fællessang og hits fra alle årtier! 🥳🎶
URL:https://aalborg-streetfood.dk/event/hitkanonen-baandsalat-80er-90er-nye-hits/
LOCATION:Eventhallen
CATEGORIES:Aalborg Streetfood,Hitkanonen,Koncerter
ATTACH;FMTTYPE=image/png:https://aalborg-streetfood.dk/wp-content/uploads/2026/01/Baandsalat-med-SH35-logo.png
END:VEVENT
END:VCALENDAR