BEGIN:VCALENDAR
VERSION:2.0
PRODID:-//Aalborg Streetfood - ECPv6.10.2//NONSGML v1.0//EN
CALSCALE:GREGORIAN
METHOD:PUBLISH
X-ORIGINAL-URL:https://aalborg-streetfood.dk
X-WR-CALDESC:Begivenheder for Aalborg Streetfood
REFRESH-INTERVAL;VALUE=DURATION:PT1H
X-Robots-Tag:noindex
X-PUBLISHED-TTL:PT1H
BEGIN:VTIMEZONE
TZID:Europe/Copenhagen
BEGIN:DAYLIGHT
TZOFFSETFROM:+0100
TZOFFSETTO:+0200
TZNAME:CEST
DTSTART:20270328T010000
END:DAYLIGHT
BEGIN:STANDARD
TZOFFSETFROM:+0200
TZOFFSETTO:+0100
TZNAME:CET
DTSTART:20271031T010000
END:STANDARD
END:VTIMEZONE
BEGIN:VEVENT
DTSTART;TZID=Europe/Copenhagen:20270319T200000
DTEND;TZID=Europe/Copenhagen:20270319T233000
DTSTAMP:20260421T215726
CREATED:20260121T123930Z
LAST-MODIFIED:20260330T122222Z
UID:10001937-1805486400-1805499000@aalborg-streetfood.dk
SUMMARY:Hitkanonen | Båndsalat (80’er\, 90’er & nye hits)
DESCRIPTION:O:B:S – Datoen er rykket fra den 24/4-26 til 19/3-27. \nBåndsalat leverer de største hits fra 80’erne\, 90’erne og nutidens top-hits\, så alle kan synge med! 🎵\nFra klassikere til nutidens radiohits – aftenens musikalske buffet giver noget for alle\, og skaber et live-univers fyldt med energi\, dans og fællesskab. \n😂 Fællessang\, grin og fest\n🍺 1 gratis øl\, sodavand eller drink mellem 17.30–19.00 i Rustbaren\n🍔 Streetfood-muligheder: Kan købes \n🕖 Dørene åbner 20:00 | 🎤 Live start 20.30\n🎟️ Early Bird: 160 kr. | Standard: 195 kr. \nTag vennerne under armen og vær med til fest\, fællessang og hits fra alle årtier! 🥳🎶
URL:https://aalborg-streetfood.dk/event/hitkanonen-baandsalat-80er-90er-nye-hits/
LOCATION:Eventhallen
CATEGORIES:Aalborg Streetfood,Hitkanonen,Koncerter
ATTACH;FMTTYPE=image/png:https://aalborg-streetfood.dk/wp-content/uploads/2026/01/Baandsalat-med-SH35-logo.png
END:VEVENT
END:VCALENDAR